BEGIN:VCALENDAR
VERSION:2.0
PRODID:-//Motor-Sport-Club MÃ¼hlheim a. M. e.V. im ADAC - ECPv6.13.2.1//NONSGML v1.0//EN
CALSCALE:GREGORIAN
METHOD:PUBLISH
X-WR-CALNAME:Motor-Sport-Club MÃ¼hlheim a. M. e.V. im ADAC
X-ORIGINAL-URL:https://msc-muehlheim.de
X-WR-CALDESC:Veranstaltungen fÃ¼r Motor-Sport-Club MÃ¼hlheim a. M. e.V. im ADAC
REFRESH-INTERVAL;VALUE=DURATION:PT1H
X-Robots-Tag:noindex
X-PUBLISHED-TTL:PT1H
BEGIN:VTIMEZONE
TZID:Europe/Berlin
BEGIN:DAYLIGHT
TZOFFSETFROM:+0100
TZOFFSETTO:+0200
TZNAME:CEST
DTSTART:20190331T010000
END:DAYLIGHT
BEGIN:STANDARD
TZOFFSETFROM:+0200
TZOFFSETTO:+0100
TZNAME:CET
DTSTART:20191027T010000
END:STANDARD
BEGIN:DAYLIGHT
TZOFFSETFROM:+0100
TZOFFSETTO:+0200
TZNAME:CEST
DTSTART:20200329T010000
END:DAYLIGHT
BEGIN:STANDARD
TZOFFSETFROM:+0200
TZOFFSETTO:+0100
TZNAME:CET
DTSTART:20201025T010000
END:STANDARD
END:VTIMEZONE
BEGIN:VEVENT
DTSTART;VALUE=DATE:20201219
DTEND;VALUE=DATE:20201221
DTSTAMP:20260421T230113
CREATED:20200120T124410Z
LAST-MODIFIED:20200120T124410Z
UID:315-1608339600-1608425999@msc-muehlheim.de
SUMMARY:Sportlerehrung MSC MÃ¼hlheim 2020
DESCRIPTION:
URL:https://msc-muehlheim.de/termin/sportlerehrung-msc-muehlheim-2020/
END:VEVENT
BEGIN:VEVENT
DTSTART;VALUE=DATE:20201205
DTEND;VALUE=DATE:20201208
DTSTAMP:20260421T230113
CREATED:20200120T124255Z
LAST-MODIFIED:20200120T124255Z
UID:313-1607130000-1607302799@msc-muehlheim.de
SUMMARY:Weihnachtsmarkt MÃ¼hlheim
DESCRIPTION:
URL:https://msc-muehlheim.de/termin/weihnachtsmarkt-muehlheim/
END:VEVENT
BEGIN:VEVENT
DTSTART;VALUE=DATE:20200725
DTEND;VALUE=DATE:20200728
DTSTAMP:20260421T230113
CREATED:20200120T124510Z
LAST-MODIFIED:20200708T061251Z
UID:317-1595638800-1595811599@msc-muehlheim.de
SUMMARY:*** ABGESAGT *** 63. ADAC Automobilslalom MSC MÃ¼hlheim e.V.
DESCRIPTION:
URL:https://msc-muehlheim.de/termin/63-adac-automobilslalom-msc-muehlheim-e-v/
END:VEVENT
BEGIN:VEVENT
DTSTART;VALUE=DATE:20200517
DTEND;VALUE=DATE:20200519
DTSTAMP:20260421T230113
CREATED:20200120T124034Z
LAST-MODIFIED:20200120T124034Z
UID:311-1589677200-1589763599@msc-muehlheim.de
SUMMARY:Jugendkartturnier
DESCRIPTION:
URL:https://msc-muehlheim.de/termin/jugendkartturnier/
END:VEVENT
BEGIN:VEVENT
DTSTART;VALUE=DATE:20200329
DTEND;VALUE=DATE:20200331
DTSTAMP:20260421T230113
CREATED:20200120T124002Z
LAST-MODIFIED:20200319T072707Z
UID:308-1585443600-1585529999@msc-muehlheim.de
SUMMARY:!!Findet nicht statt!! - ADAC Mitgliederversammlung
DESCRIPTION:Aufgrund der dynamischen Entwicklung des Corona-Virus wird die diesjÃ¤hrige ADAC Mitgliederversammlung verschoben.\nSobald ein neuer Termin feststeht\, werden wir diesen hier verÃ¶ffentlichen.
URL:https://msc-muehlheim.de/termin/adac-mitgliederversammlung/
END:VEVENT
BEGIN:VEVENT
DTSTART;VALUE=DATE:20200313
DTEND;VALUE=DATE:20200315
DTSTAMP:20260421T230113
CREATED:20200120T123803Z
LAST-MODIFIED:20200120T123803Z
UID:306-1584061200-1584147599@msc-muehlheim.de
SUMMARY:MSC Mitgliederversammlung
DESCRIPTION:
URL:https://msc-muehlheim.de/termin/msc-mitgliederversammlung/
END:VEVENT
BEGIN:VEVENT
DTSTART;TZID=Europe/Berlin:20200307T120000
DTEND;TZID=Europe/Berlin:20200307T235900
DTSTAMP:20260421T230113
CREATED:20200120T123303Z
LAST-MODIFIED:20200126T105923Z
UID:300-1583582400-1583625540@msc-muehlheim.de
SUMMARY:FrÃ¼hstart
DESCRIPTION:Weitere Infos:
URL:https://msc-muehlheim.de/termin/e-kart-turnier/
LOCATION:Naherholungsgebiet\, MÃ¼hlheim\, Am Wingertsweg\, Offenbach\, 63165
END:VEVENT
BEGIN:VEVENT
DTSTART;VALUE=DATE:20200229
DTEND;VALUE=DATE:20200302
DTSTAMP:20260421T230113
CREATED:20200120T123710Z
LAST-MODIFIED:20200126T110333Z
UID:303-1582938000-1583024399@msc-muehlheim.de
SUMMARY:E-Kart Turnier
DESCRIPTION:Weitere Infos
URL:https://msc-muehlheim.de/termin/e-kart-turnier-2/
LOCATION:ECO Kart Frankfurt\, August-Schanz-StraÃŸe 31a\, Frankfurt am Main\, 60433
END:VEVENT
BEGIN:VEVENT
DTSTART;VALUE=DATE:20200208
DTEND;VALUE=DATE:20200210
DTSTAMP:20260421T230113
CREATED:20200120T123240Z
LAST-MODIFIED:20200120T123240Z
UID:297-1581123600-1581209999@msc-muehlheim.de
SUMMARY:Multitagung ADAC
DESCRIPTION:
URL:https://msc-muehlheim.de/termin/multitagung-adac/
LOCATION:Hotel Esperanto\, Fulda\, Esperantoplatz\, Fulda\, 36037\, Deutschland
END:VEVENT
BEGIN:VEVENT
DTSTART;VALUE=DATE:20191221
DTEND;VALUE=DATE:20191223
DTSTAMP:20260421T230113
CREATED:20190909T135945Z
LAST-MODIFIED:20190909T135945Z
UID:250-1576890000-1576976399@msc-muehlheim.de
SUMMARY:Sportlerehrung
DESCRIPTION:
URL:https://msc-muehlheim.de/termin/sportlerehrung/
END:VEVENT
BEGIN:VEVENT
DTSTART;VALUE=DATE:20191207
DTEND;VALUE=DATE:20191210
DTSTAMP:20260421T230113
CREATED:20190909T135913Z
LAST-MODIFIED:20190909T135913Z
UID:248-1575680400-1575853199@msc-muehlheim.de
SUMMARY:Weihnachtsmarkt
DESCRIPTION:in MÃ¼hlheim mit unserem Stand mit Feuerzangenbowle
URL:https://msc-muehlheim.de/termin/weihnachtsmarkt/
END:VEVENT
BEGIN:VEVENT
DTSTART;VALUE=DATE:20191006
DTEND;VALUE=DATE:20191008
DTSTAMP:20260421T230113
CREATED:20190808T150027Z
LAST-MODIFIED:20190808T155315Z
UID:212-1570323600-1570409999@msc-muehlheim.de
SUMMARY:DMSB Flugplatzslalom WalldÃ¼rn
DESCRIPTION:  \nWeitere Infos in der Ausschreibung: PDF-Download \nOnline-Nennung erfolgt unter: www.s-timing.de
URL:https://msc-muehlheim.de/termin/dmsb-flugplatzslalom-wallduern/
LOCATION:WalldÃ¼rn
END:VEVENT
END:VCALENDAR